Workbook
Name ca: #REF!
Name capitulo: #REF!

Sheet FTI_2 MBB002 
A1: FICHA TÉCNICA DE INDICADORES | E1: FICHA TÉCNICA DE INDICADORES | I1: FICHA TÉCNICA DE INDICADORES | M1: FICHA TÉCNICA DE INDICADORES | Q1: FICHA TÉCNICA DE INDICADORES | U1: FICHA TÉCNICA DE INDICADORES | Y1: FICHA TÉCNICA DE INDICADORES | AC1: FICHA TÉCNICA DE INDICADORES | AG1: FICHA TÉCNICA DE INDICADORES | AK1: FICHA TÉCNICA DE INDICADORES | AO1: FICHA TÉCNICA DE INDICADORES | AS1: FICHA TÉCNICA DE INDICADORES | AW1: FICHA TÉCNICA DE INDICADORES | BA1: FICHA TÉCNICA DE INDICADORES | BE1: FICHA TÉCNICA DE INDICADORES | BI1: FICHA TÉCNICA DE INDICADORES | BM1: FICHA TÉCNICA DE INDICADORES | BQ1: FICHA TÉCNICA DE INDICADORES | BU1: FICHA TÉCNICA DE INDICADORES | BY1: FICHA TÉCNICA DE INDICADORES | CC1: FICHA TÉCNICA DE INDICADORES | CG1: FICHA TÉCNICA DE INDICADORES | CK1: FICHA TÉCNICA DE INDICADORES | CO1: FICHA TÉCNICA DE INDICADORES | CS1: FICHA TÉCNICA DE INDICADORES | CW1: FICHA TÉCNICA DE INDICADORES | DA1: FICHA TÉCNICA DE INDICADORES | DE1: FICHA TÉCNICA DE INDICADORES | DI1: FICHA TÉCNICA DE INDICADORES | DM1: FICHA TÉCNICA DE INDICADORES | DQ1: FICHA TÉCNICA DE INDICADORES
A2: SANTIAGO DE ANAYA HIDALGO | E2: SANTIAGO DE ANAYA HIDALGO | I2: SANTIAGO DE ANAYA HIDALGO | M2: SANTIAGO DE ANAYA HIDALGO | Q2: SANTIAGO DE ANAYA HIDALGO | U2: SANTIAGO DE ANAYA HIDALGO | Y2: SANTIAGO DE ANAYA HIDALGO | AC2: SANTIAGO DE ANAYA HIDALGO | AG2: SANTIAGO DE ANAYA HIDALGO | AK2: SANTIAGO DE ANAYA HIDALGO | AO2: SANTIAGO DE ANAYA HIDALGO | AS2: SANTIAGO DE ANAYA HIDALGO | AW2: SANTIAGO DE ANAYA HIDALGO | BA2: SANTIAGO DE ANAYA HIDALGO | BE2: SANTIAGO DE ANAYA HIDALGO | BI2: SANTIAGO DE ANAYA HIDALGO | BM2: SANTIAGO DE ANAYA HIDALGO | BQ2: SANTIAGO DE ANAYA HIDALGO | BU2: SANTIAGO DE ANAYA HIDALGO | BY2: SANTIAGO DE ANAYA HIDALGO | CC2: SANTIAGO DE ANAYA HIDALGO | CG2: SANTIAGO DE ANAYA HIDALGO | CK2: SANTIAGO DE ANAYA HIDALGO | CO2: SANTIAGO DE ANAYA HIDALGO | CS2: SANTIAGO DE ANAYA HIDALGO | CW2: SANTIAGO DE ANAYA HIDALGO | DA2: SANTIAGO DE ANAYA HIDALGO | DE2: SANTIAGO DE ANAYA HIDALGO | DI2: SANTIAGO DE ANAYA HIDALGO | DM2: SANTIAGO DE ANAYA HIDALGO | DQ2: SANTIAGO DE ANAYA HIDALGO
A3: EJERCICIO 2025 | E3: EJERCICIO 2025 | I3: EJERCICIO 2025 | M3: EJERCICIO 2025 | Q3: EJERCICIO 2025 | U3: EJERCICIO 2025 | Y3: EJERCICIO 2025 | AC3: EJERCICIO 2025 | AG3: EJERCICIO 2025 | AK3: EJERCICIO 2025 | AO3: EJERCICIO 2025 | AS3: EJERCICIO 2025 | AW3: EJERCICIO 2025 | BA3: EJERCICIO 2025 | BE3: EJERCICIO 2025 | BI3: EJERCICIO 2025 | BM3: EJERCICIO 2025 | BQ3: EJERCICIO 2025 | BU3: EJERCICIO 2025 | BY3: EJERCICIO 2025 | CC3: EJERCICIO 2025 | CG3: EJERCICIO 2025 | CK3: EJERCICIO 2025 | CO3: EJERCICIO 2025 | CS3: EJERCICIO 2025 | CW3: EJERCICIO 2025 | DA3: EJERCICIO 2025 | DE3: EJERCICIO 2025 | DI3: EJERCICIO 2025 | DM3: EJERCICIO 2025 | DQ3: EJERCICIO 2025
A4: I. DATOS DE IDENTIFICACIÓN | E4: I. DATOS DE IDENTIFICACIÓN | I4: I. DATOS DE IDENTIFICACIÓN | M4: I. DATOS DE IDENTIFICACIÓN | Q4: I. DATOS DE IDENTIFICACIÓN | U4: I. DATOS DE IDENTIFICACIÓN | Y4: I. DATOS DE IDENTIFICACIÓN | AC4: I. DATOS DE IDENTIFICACIÓN | AG4: I. DATOS DE IDENTIFICACIÓN | AK4: I. DATOS DE IDENTIFICACIÓN | AO4: I. DATOS DE IDENTIFICACIÓN | AS4: I. DATOS DE IDENTIFICACIÓN | AW4: I. DATOS DE IDENTIFICACIÓN | BA4: I. DATOS DE IDENTIFICACIÓN | BE4: I. DATOS DE IDENTIFICACIÓN | BI4: I. DATOS DE IDENTIFICACIÓN | BM4: I. DATOS DE IDENTIFICACIÓN | BQ4: I. DATOS DE IDENTIFICACIÓN | BU4: I. DATOS DE IDENTIFICACIÓN | BY4: I. DATOS DE IDENTIFICACIÓN | CC4: I. DATOS DE IDENTIFICACIÓN | CG4: I. DATOS DE IDENTIFICACIÓN | CK4: I. DATOS DE IDENTIFICACIÓN | CO4: I. DATOS DE IDENTIFICACIÓN | CS4: I. DATOS DE IDENTIFICACIÓN | CW4: I. DATOS DE IDENTIFICACIÓN | DA4: I. DATOS DE IDENTIFICACIÓN | DE4: I. DATOS DE IDENTIFICACIÓN | DI4: I. DATOS DE IDENTIFICACIÓN | DM4: I. DATOS DE IDENTIFICACIÓN | DQ4: I. DATOS DE IDENTIFICACIÓN
A5: PROGRAMA PRESUPUESTARIO (PP) | C5: MBB002- SANTIAGO DE ANAYA UN MUNICIPIO QUE BUSCA EL BIENESTAR DEL PUEBLO. | E5: PROGRAMA PRESUPUESTARIO (PP) | G5: MBB002- SANTIAGO DE ANAYA UN MUNICIPIO QUE BUSCA EL BIENESTAR DEL PUEBLO. | I5: PROGRAMA PRESUPUESTARIO (PP) | K5: MBB002- SANTIAGO DE ANAYA UN MUNICIPIO QUE BUSCA EL BIENESTAR DEL PUEBLO. | M5: PROGRAMA PRESUPUESTARIO (PP) | O5: MBB002- SANTIAGO DE ANAYA UN MUNICIPIO QUE BUSCA EL BIENESTAR DEL PUEBLO. | Q5: PROGRAMA PRESUPUESTARIO (PP) | S5: MBB002- SANTIAGO DE ANAYA UN MUNICIPIO QUE BUSCA EL BIENESTAR DEL PUEBLO. | U5: PROGRAMA PRESUPUESTARIO (PP) | W5: MBB002- SANTIAGO DE ANAYA UN MUNICIPIO QUE BUSCA EL BIENESTAR DEL PUEBLO. | Y5: PROGRAMA PRESUPUESTARIO (PP) | AA5: MBB002- SANTIAGO DE ANAYA UN MUNICIPIO QUE BUSCA EL BIENESTAR DEL PUEBLO. | AC5: PROGRAMA PRESUPUESTARIO (PP) | AE5: MBB002- SANTIAGO DE ANAYA UN MUNICIPIO QUE BUSCA EL BIENESTAR DEL PUEBLO. | AG5: PROGRAMA PRESUPUESTARIO (PP) | AI5: MBB002- SANTIAGO DE ANAYA UN MUNICIPIO QUE BUSCA EL BIENESTAR DEL PUEBLO. | AK5: PROGRAMA PRESUPUESTARIO (PP) | AM5: MBB002- SANTIAGO DE ANAYA UN MUNICIPIO QUE BUSCA EL BIENESTAR DEL PUEBLO. | AO5: PROGRAMA PRESUPUESTARIO (PP) | AQ5: MBB002- SANTIAGO DE ANAYA UN MUNICIPIO QUE BUSCA EL BIENESTAR DEL PUEBLO. | AS5: PROGRAMA PRESUPUESTARIO (PP) | AU5: MBB002- SANTIAGO DE ANAYA UN MUNICIPIO QUE BUSCA EL BIENESTAR DEL PUEBLO. | AW5: PROGRAMA PRESUPUESTARIO (PP) | AY5: MBB002- SANTIAGO DE ANAYA UN MUNICIPIO QUE BUSCA EL BIENESTAR DEL PUEBLO. | BA5: PROGRAMA PRESUPUESTARIO (PP) | BC5: MBB002- SANTIAGO DE ANAYA UN MUNICIPIO QUE BUSCA EL BIENESTAR DEL PUEBLO. | BE5: PROGRAMA PRESUPUESTARIO (PP) | BG5: MBB002- SANTIAGO DE ANAYA UN MUNICIPIO QUE BUSCA EL BIENESTAR DEL PUEBLO. | BI5: PROGRAMA PRESUPUESTARIO (PP) | BK5: MBB002- SANTIAGO DE ANAYA UN MUNICIPIO QUE BUSCA EL BIENESTAR DEL PUEBLO. | BM5: PROGRAMA PRESUPUESTARIO (PP) | BO5: MBB002- SANTIAGO DE ANAYA UN MUNICIPIO QUE BUSCA EL BIENESTAR DEL PUEBLO. | BQ5: PROGRAMA PRESUPUESTARIO (PP) | BS5: MBB002- SANTIAGO DE ANAYA UN MUNICIPIO QUE BUSCA EL BIENESTAR DEL PUEBLO. | BU5: PROGRAMA PRESUPUESTARIO (PP) | BW5: MBB002- SANTIAGO DE ANAYA UN MUNICIPIO QUE BUSCA EL BIENESTAR DEL PUEBLO. | BY5: PROGRAMA PRESUPUESTARIO (PP) | CA5: MBB002- SANTIAGO DE ANAYA UN MUNICIPIO QUE BUSCA EL BIENESTAR DEL PUEBLO. | CC5: PROGRAMA PRESUPUESTARIO (PP) | CE5: MBB002- SANTIAGO DE ANAYA UN MUNICIPIO QUE BUSCA EL BIENESTAR DEL PUEBLO. | CG5: PROGRAMA PRESUPUESTARIO (PP) | CI5: MBB002- SANTIAGO DE ANAYA UN MUNICIPIO QUE BUSCA EL BIENESTAR DEL PUEBLO. | CK5: PROGRAMA PRESUPUESTARIO (PP) | CM5: MBB002- SANTIAGO DE ANAYA UN MUNICIPIO QUE BUSCA EL BIENESTAR DEL PUEBLO. | CO5: PROGRAMA PRESUPUESTARIO (PP) | CQ5: MBB002- SANTIAGO DE ANAYA UN MUNICIPIO QUE BUSCA EL BIENESTAR DEL PUEBLO. | CS5: PROGRAMA PRESUPUESTARIO (PP) | CU5: MBB002- SANTIAGO DE ANAYA UN MUNICIPIO QUE BUSCA EL BIENESTAR DEL PUEBLO. | CW5: PROGRAMA PRESUPUESTARIO (PP) | CY5: MBB002- SANTIAGO DE ANAYA UN MUNICIPIO QUE BUSCA EL BIENESTAR DEL PUEBLO. | DA5: PROGRAMA PRESUPUESTARIO (PP) | DC5: MBB002- SANTIAGO DE ANAYA UN MUNICIPIO QUE BUSCA EL BIENESTAR DEL PUEBLO. | DE5: PROGRAMA PRESUPUESTARIO (PP) | DG5: MBB002- SANTIAGO DE ANAYA UN MUNICIPIO QUE BUSCA EL BIENESTAR DEL PUEBLO. | DI5: PROGRAMA PRESUPUESTARIO (PP) | DK5: MBB002- SANTIAGO DE ANAYA UN MUNICIPIO QUE BUSCA EL BIENESTAR DEL PUEBLO. | DM5: PROGRAMA PRESUPUESTARIO (PP) | DO5: MBB002- SANTIAGO DE ANAYA UN MUNICIPIO QUE BUSCA EL BIENESTAR DEL PUEBLO. | DQ5: PROGRAMA PRESUPUESTARIO (PP) | DS5: MBB002- SANTIAGO DE ANAYA UN MUNICIPIO QUE BUSCA EL BIENESTAR DEL PUEBLO.
A6: UNIDAD RESPONSABLE | C6: ='DES01 2025'!F141 -> SISTEMA DIF MUNICIPAL | E6: UNIDAD RESPONSABLE | G6: =+'DES01 2025'!F142 -> SISTEMA DIF MUNICIPAL | I6: UNIDAD RESPONSABLE | K6: =+'DES01 2025'!F143 -> SISTEMA DIF MUNICIPAL | M6: UNIDAD RESPONSABLE | O6: =+'DES01 2025'!F144 -> SISTEMA DIF MUNICIPAL | Q6: UNIDAD RESPONSABLE | S6: =+'DES01 2025'!F145 -> SISTEMA DIF MUNICIPAL | U6: UNIDAD RESPONSABLE | W6: =+'DES01 2025'!F146 -> SISTEMA DIF MUNICIPAL | Y6: UNIDAD RESPONSABLE | AA6: =+'DES01 2025'!F147 -> SISTEMA DIF MUNICIPAL | AC6: UNIDAD RESPONSABLE | AE6: =+'DES01 2025'!F148 -> SISTEMA DIF MUNICIPAL | AG6: UNIDAD RESPONSABLE | AI6: =+'DES01 2025'!F149 -> SISTEMA DIF MUNICIPAL | AK6: UNIDAD RESPONSABLE | AM6: =+'DES01 2025'!F150 -> SISTEMA DIF MUNICIPAL | AO6: UNIDAD RESPONSABLE | AQ6: =+'DES01 2025'!F151 -> SISTEMA DIF MUNICIPAL | AS6: UNIDAD RESPONSABLE | AU6: =+'DES01 2025'!F152 -> DESARROLLO SOCIAL | AW6: UNIDAD RESPONSABLE | AY6: =+'DES01 2025'!F153 -> DESARROLLO SOCIAL | BA6: UNIDAD RESPONSABLE | BC6: =+'DES01 2025'!F154 -> DESARROLLO SOCIAL | BE6: UNIDAD RESPONSABLE | BG6: =+'DES01 2025'!F155 -> DESARROLLO SOCIAL | BI6: UNIDAD RESPONSABLE | BK6: =+'DES01 2025'!F156 -> ENLACE DE ATENCIÓN DEL ADULTO MAYOR | BM6: UNIDAD RESPONSABLE | BO6: =+'DES01 2025'!F157 -> ENLACE DE ATENCIÓN DEL ADULTO MAYOR | BQ6: UNIDAD RESPONSABLE | BS6: =+'DES01 2025'!F158 -> ENLACE DE ATENCIÓN DEL ADULTO MAYOR | BU6: UNIDAD RESPONSABLE | BW6: =+'DES01 2025'!F159 -> IMJUVE Y DEPORTE | BY6: UNIDAD RESPONSABLE | CA6: =+'DES01 2025'!F160 -> IMJUVE Y DEPORTE | CC6: UNIDAD RESPONSABLE | CE6: =+'DES01 2025'!F161 -> IMJUVE Y DEPORTE | CG6: UNIDAD RESPONSABLE | CI6: =+'DES01 2025'!F162 -> COMUNIDADES INDÍGENAS | CK6: UNIDAD RESPONSABLE | CM6: =+'DES01 2025'!F163 -> COMUNIDADES INDÍGENAS | CO6: UNIDAD RESPONSABLE | CQ6: =+'DES01 2025'!F164 -> COMUNIDADES INDÍGENAS | CS6: UNIDAD RESPONSABLE | CU6: =+'DES01 2025'!$F165 -> INSTANCIA MUNICIPAL PARA EL DESARROLLO DE LAS MUJERES | CW6: UNIDAD RESPONSABLE | CY6: =+'DES01 2025'!$F166 -> INSTANCIA MUNICIPAL PARA EL DESARROLLO DE LAS MUJERES | DA6: UNIDAD RESPONSABLE | DC6: =+'DES01 2025'!$F167 -> INSTANCIA MUNICIPAL PARA EL DESARROLLO DE LAS MUJERES | DE6: UNIDAD RESPONSABLE | DG6: =+'DES01 2025'!$F168 -> SIPINNA | DI6: UNIDAD RESPONSABLE | DK6: =+'DES01 2025'!$F169 -> SIPINNA | DM6: UNIDAD RESPONSABLE | DO6: =+'DES01 2025'!$F170 -> SIPINNA | DQ6: UNIDAD RESPONSABLE | DS6: =+'DES01 2025'!$F171 -> SIPINNA
A7: EJE DEL PLAN MUNICIPAL DE DESARROLLO | C7: EJE 2. SANTIAGO DE ANAYA UN MUNICIPIO QUE BUSCA EL BIENESTAR DEL PUEBLO. | E7: EJE DEL PLAN MUNICIPAL DE DESARROLLO | G7: =C7 -> EJE 2. SANTIAGO DE ANAYA UN MUNICIPIO QUE BUSCA EL BIENESTAR DEL PUEBLO. | I7: EJE DEL PLAN MUNICIPAL DE DESARROLLO | K7: =G7 -> EJE 2. SANTIAGO DE ANAYA UN MUNICIPIO QUE BUSCA EL BIENESTAR DEL PUEBLO. | M7: EJE DEL PLAN MUNICIPAL DE DESARROLLO | O7: =K7 -> EJE 2. SANTIAGO DE ANAYA UN MUNICIPIO QUE BUSCA EL BIENESTAR DEL PUEBLO. | Q7: EJE DEL PLAN MUNICIPAL DE DESARROLLO | S7: =O7 -> EJE 2. SANTIAGO DE ANAYA UN MUNICIPIO QUE BUSCA EL BIENESTAR DEL PUEBLO. | U7: EJE DEL PLAN MUNICIPAL DE DESARROLLO | W7: =S7 -> EJE 2. SANTIAGO DE ANAYA UN MUNICIPIO QUE BUSCA EL BIENESTAR DEL PUEBLO. | Y7: EJE DEL PLAN MUNICIPAL DE DESARROLLO | AA7: =W7 -> EJE 2. SANTIAGO DE ANAYA UN MUNICIPIO QUE BUSCA EL BIENESTAR DEL PUEBLO. | AC7: EJE DEL PLAN MUNICIPAL DE DESARROLLO | AE7: =AA7 -> EJE 2. SANTIAGO DE ANAYA UN MUNICIPIO QUE BUSCA EL BIENESTAR DEL PUEBLO. | AG7: EJE DEL PLAN MUNICIPAL DE DESARROLLO | AI7: =AE7 -> EJE 2. SANTIAGO DE ANAYA UN MUNICIPIO QUE BUSCA EL BIENESTAR DEL PUEBLO. | AK7: EJE DEL PLAN MUNICIPAL DE DESARROLLO | AM7: =AI7 -> EJE 2. SANTIAGO DE ANAYA UN MUNICIPIO QUE BUSCA EL BIENESTAR DEL PUEBLO. | AO7: EJE DEL PLAN MUNICIPAL DE DESARROLLO | AQ7: =+AM7 -> EJE 2. SANTIAGO DE ANAYA UN MUNICIPIO QUE BUSCA EL BIENESTAR DEL PUEBLO. | AS7: EJE DEL PLAN MUNICIPAL DE DESARROLLO | AU7: =+AQ7 -> EJE 2. SANTIAGO DE ANAYA UN MUNICIPIO QUE BUSCA EL BIENESTAR DEL PUEBLO. | AW7: EJE DEL PLAN MUNICIPAL DE DESARROLLO | AY7: =+AU7 -> EJE 2. SANTIAGO DE ANAYA UN MUNICIPIO QUE BUSCA EL BIENESTAR DEL PUEBLO. | BA7: EJE DEL PLAN MUNICIPAL DE DESARROLLO | BC7: =AY7 -> EJE 2. SANTIAGO DE ANAYA UN MUNICIPIO QUE BUSCA EL BIENESTAR DEL PUEBLO. | BE7: EJE DEL PLAN MUNICIPAL DE DESARROLLO | BG7: =BC7 -> EJE 2. SANTIAGO DE ANAYA UN MUNICIPIO QUE BUSCA EL BIENESTAR DEL PUEBLO. | BI7: EJE DEL PLAN MUNICIPAL DE DESARROLLO | BK7: =BG7 -> EJE 2. SANTIAGO DE ANAYA UN MUNICIPIO QUE BUSCA EL BIENESTAR DEL PUEBLO. | BM7: EJE DEL PLAN MUNICIPAL DE DESARROLLO | BO7: =BK7 -> EJE 2. SANTIAGO DE ANAYA UN MUNICIPIO QUE BUSCA EL BIENESTAR DEL PUEBLO. | BQ7: EJE DEL PLAN MUNICIPAL DE DESARROLLO | BS7: =BO7 -> EJE 2. SANTIAGO DE ANAYA UN MUNICIPIO QUE BUSCA EL BIENESTAR DEL PUEBLO. | BU7: EJE DEL PLAN MUNICIPAL DE DESARROLLO | BW7: =BS7 -> EJE 2. SANTIAGO DE ANAYA UN MUNICIPIO QUE BUSCA EL BIENESTAR DEL PUEBLO. | BY7: EJE DEL PLAN MUNICIPAL DE DESARROLLO | CA7: =BW7 -> EJE 2. SANTIAGO DE ANAYA UN MUNICIPIO QUE BUSCA EL BIENESTAR DEL PUEBLO. | CC7: EJE DEL PLAN MUNICIPAL DE DESARROLLO | CE7: =CA7 -> EJE 2. SANTIAGO DE ANAYA UN MUNICIPIO QUE BUSCA EL BIENESTAR DEL PUEBLO. | CG7: EJE DEL PLAN MUNICIPAL DE DESARROLLO | CI7: =CE7 -> EJE 2. SANTIAGO DE ANAYA UN MUNICIPIO QUE BUSCA EL BIENESTAR DEL PUEBLO. | CK7: EJE DEL PLAN MUNICIPAL DE DESARROLLO | CM7: =CI7 -> EJE 2. SANTIAGO DE ANAYA UN MUNICIPIO QUE BUSCA EL BIENESTAR DEL PUEBLO. | CO7: EJE DEL PLAN MUNICIPAL DE DESARROLLO | CQ7: =+'DES01 2025'!D164 -> EJE 1: UN GOBIERNO CERCANO, JUSTO Y HONESTO DE LA MANO CON EL PUEBLO DE SANTIAGO DE ANAYA | CS7: EJE DEL PLAN MUNICIPAL DE DESARROLLO | CU7: =+'DES01 2025'!$D165 -> EJE 1: UN GOBIERNO CERCANO, JUSTO Y HONESTO DE LA MANO CON EL PUEBLO DE SANTIAGO DE ANAYA | CW7: EJE DEL PLAN MUNICIPAL DE DESARROLLO | CY7: =+'DES01 2025'!$D166 -> EJE 1: UN GOBIERNO CERCANO, JUSTO Y HONESTO DE LA MANO CON EL PUEBLO DE SANTIAGO DE ANAYA | DA7: EJE DEL PLAN MUNICIPAL DE DESARROLLO | DC7: =+'DES01 2025'!$D167 -> EJE 1: UN GOBIERNO CERCANO, JUSTO Y HONESTO DE LA MANO CON EL PUEBLO DE SANTIAGO DE ANAYA | DE7: EJE DEL PLAN MUNICIPAL DE DESARROLLO | DG7: =+'DES01 2025'!$D168 -> EJE 1: UN GOBIERNO CERCANO, JUSTO Y HONESTO DE LA MANO CON EL PUEBLO DE SANTIAGO DE ANAYA | DI7: EJE DEL PLAN MUNICIPAL DE DESARROLLO | DK7: =+'DES01 2025'!$D169 -> EJE 1: UN GOBIERNO CERCANO, JUSTO Y HONESTO DE LA MANO CON EL PUEBLO DE SANTIAGO DE ANAYA | DM7: EJE DEL PLAN MUNICIPAL DE DESARROLLO | DO7: =+'DES01 2025'!$D170 -> EJE 1: UN GOBIERNO CERCANO, JUSTO Y HONESTO DE LA MANO CON EL PUEBLO DE SANTIAGO DE ANAYA | DQ7: EJE DEL PLAN MUNICIPAL DE DESARROLLO | DS7: =+'DES01 2025'!$D171 -> EJE TRANSVERSAL SERVICIOS PÚBLICOS MUNICIPALES INTEGRALES Y SOSTENIBLES
A9: CLASIFICACIÓN DEL PROGRAMA | C9: MBB002- | E9: CLASIFICACIÓN DEL PROGRAMA | G9: =C9 -> MBB002- | I9: CLASIFICACIÓN DEL PROGRAMA | K9: =G9 -> MBB002- | M9: CLASIFICACIÓN DEL PROGRAMA | O9: =K9 -> MBB002- | Q9: CLASIFICACIÓN DEL PROGRAMA | S9: =O9 -> MBB002- | U9: CLASIFICACIÓN DEL PROGRAMA | W9: =S9 -> MBB002- | Y9: CLASIFICACIÓN DEL PROGRAMA | AA9: =W9 -> MBB002- | AC9: CLASIFICACIÓN DEL PROGRAMA | AE9: =AA9 -> MBB002- | AG9: CLASIFICACIÓN DEL PROGRAMA | AI9: =AE9 -> MBB002- | AK9: CLASIFICACIÓN DEL PROGRAMA | AM9: =AI9 -> MBB002- | AO9: CLASIFICACIÓN DEL PROGRAMA | AQ9: =AM9 -> MBB002- | AS9: CLASIFICACIÓN DEL PROGRAMA | AU9: =AQ9 -> MBB002- | AW9: CLASIFICACIÓN DEL PROGRAMA | AY9: =AU9 -> MBB002- | BA9: CLASIFICACIÓN DEL PROGRAMA | BC9: =AY9 -> MBB002- | BE9: CLASIFICACIÓN DEL PROGRAMA | BG9: =BC9 -> MBB002- | BI9: CLASIFICACIÓN DEL PROGRAMA | BK9: =BG9 -> MBB002- | BM9: CLASIFICACIÓN DEL PROGRAMA | BO9: =BK9 -> MBB002- | BQ9: CLASIFICACIÓN DEL PROGRAMA | BS9: =BO9 -> MBB002- | BU9: CLASIFICACIÓN DEL PROGRAMA | BW9: =BS9 -> MBB002- | BY9: CLASIFICACIÓN DEL PROGRAMA | CA9: =BW9 -> MBB002- | CC9: CLASIFICACIÓN DEL PROGRAMA | CE9: =CA9 -> MBB002- | CG9: CLASIFICACIÓN DEL PROGRAMA | CI9: =CE9 -> MBB002- | CK9: CLASIFICACIÓN DEL PROGRAMA | CM9: =CI9 -> MBB002- | CO9: CLASIFICACIÓN DEL PROGRAMA | CQ9: =CM9 -> MBB002- | CS9: CLASIFICACIÓN DEL PROGRAMA | CU9: =CQ9 -> MBB002- | CW9: CLASIFICACIÓN DEL PROGRAMA | CY9: =CU9 -> MBB002- | DA9: CLASIFICACIÓN DEL PROGRAMA | DC9: =CY9 -> MBB002- | DE9: CLASIFICACIÓN DEL PROGRAMA | DG9: =DC9 -> MBB002- | DI9: CLASIFICACIÓN DEL PROGRAMA | DK9: =DG9 -> MBB002- | DM9: CLASIFICACIÓN DEL PROGRAMA | DO9: =DK9 -> MBB002- | DQ9: CLASIFICACIÓN DEL PROGRAMA | DS9: =DO9 -> MBB002-
A10: II. DATOS DE IDENTIFICACIÓN DEL INDICADOR | E10: II. DATOS DE IDENTIFICACIÓN DEL INDICADOR | I10: II. DATOS DE IDENTIFICACIÓN DEL INDICADOR | M10: II. DATOS DE IDENTIFICACIÓN DEL INDICADOR | Q10: II. DATOS DE IDENTIFICACIÓN DEL INDICADOR | U10: II. DATOS DE IDENTIFICACIÓN DEL INDICADOR | Y10: II. DATOS DE IDENTIFICACIÓN DEL INDICADOR | AC10: II. DATOS DE IDENTIFICACIÓN DEL INDICADOR | AG10: II. DATOS DE IDENTIFICACIÓN DEL INDICADOR | AK10: II. DATOS DE IDENTIFICACIÓN DEL INDICADOR | AO10: II. DATOS DE IDENTIFICACIÓN DEL INDICADOR | AS10: II. DATOS DE IDENTIFICACIÓN DEL INDICADOR | AW10: II. DATOS DE IDENTIFICACIÓN DEL INDICADOR | BA10: II. DATOS DE IDENTIFICACIÓN DEL INDICADOR | BE10: II. DATOS DE IDENTIFICACIÓN DEL INDICADOR | BI10: II. DATOS DE IDENTIFICACIÓN DEL INDICADOR | BM10: II. DATOS DE IDENTIFICACIÓN DEL INDICADOR | BQ10: II. DATOS DE IDENTIFICACIÓN DEL INDICADOR | BU10: II. DATOS DE IDENTIFICACIÓN DEL INDICADOR | BY10: II. DATOS DE IDENTIFICACIÓN DEL INDICADOR | CC10: II. DATOS DE IDENTIFICACIÓN DEL INDICADOR | CG10: II. DATOS DE IDENTIFICACIÓN DEL INDICADOR | CK10: II. DATOS DE IDENTIFICACIÓN DEL INDICADOR | CO10: II. DATOS DE IDENTIFICACIÓN DEL INDICADOR | CS10: II. DATOS DE IDENTIFICACIÓN DEL INDICADOR | CW10: II. DATOS DE IDENTIFICACIÓN DEL INDICADOR | DA10: II. DATOS DE IDENTIFICACIÓN DEL INDICADOR | DE10: II. DATOS DE IDENTIFICACIÓN DEL INDICADOR | DI10: II. DATOS DE IDENTIFICACIÓN DEL INDICADOR | DM10: II. DATOS DE IDENTIFICACIÓN DEL INDICADOR | DQ10: II. DATOS DE IDENTIFICACIÓN DEL INDICADOR
A11: NOMBRE DEL INDICADOR | E11: NOMBRE DEL INDICADOR | I11: NOMBRE DEL INDICADOR | M11: NOMBRE DEL INDICADOR | Q11: NOMBRE DEL INDICADOR | U11: NOMBRE DEL INDICADOR | Y11: NOMBRE DEL INDICADOR | AC11: NOMBRE DEL INDICADOR | AG11: NOMBRE DEL INDICADOR | AK11: NOMBRE DEL INDICADOR | AO11: NOMBRE DEL INDICADOR | AS11: NOMBRE DEL INDICADOR | AW11: NOMBRE DEL INDICADOR | BA11: NOMBRE DEL INDICADOR | BE11: NOMBRE DEL INDICADOR | BI11: NOMBRE DEL INDICADOR | BM11: NOMBRE DEL INDICADOR | BQ11: NOMBRE DEL INDICADOR | BU11: NOMBRE DEL INDICADOR | BY11: NOMBRE DEL INDICADOR | CC11: NOMBRE DEL INDICADOR | CG11: NOMBRE DEL INDICADOR | CK11: NOMBRE DEL INDICADOR | CO11: NOMBRE DEL INDICADOR | CS11: NOMBRE DEL INDICADOR | CW11: NOMBRE DEL INDICADOR | DA11: NOMBRE DEL INDICADOR | DE11: NOMBRE DEL INDICADOR | DI11: NOMBRE DEL INDICADOR | DM11: NOMBRE DEL INDICADOR | DQ11: NOMBRE DEL INDICADOR
A12: ='DES01 2025'!J141 -> Porcentaje de población en situación de pobreza extrema. | E12: ='DES01 2025'!J142 -> Porcentajde de por acceso a la seguridad social | I12: ='DES01 2025'!J143 -> Porcentaje de servicios entregados a la ciudadana en favor del cuidado de la salud | M12: ='DES01 2025'!J144 -> Porcentaje de pacientes beneficiados con terapias de rehabilitación otorgadas por la UBR. | Q12: ='DES01 2025'!J145 -> Porcentaje de terapia ocupacional brindada a la ciudadanía | U12: ='DES01 2025'!J146 -> Porcentaje de terapias de lenguaje brindadas a la ciudadanía. | Y12: ='DES01 2025'!J147 -> Porcentaje de consultas otorgadas a la población que necesita del servicio. | AC12: ='DES01 2025'!J148 -> Porcentaje de consultas de especialidades otorgadas a la población vulnerable | AG12: ='DES01 2025'!J149 -> Porcentaje de servicios de radiología ofrecidos a la población | AK12: ='DES01 2025'!J150 -> Porcentaje de pacientes beneficiados con servicios dentales. | AO12: ='DES01 2025'!J151 -> Porcentaje de traslados realizados a pacientes que lo solicitaron. | AS12: ='DES01 2025'!J152 -> Porcentaje de programas sociales realizados en favor de los grupos vulnerables | AW12: ='DES01 2025'!J153 -> Porcentaje de familias beneficiadas con programas de mejoramiento de vivienda | BA12: ='DES01 2025'!J154 -> Porcentaje de personas beneficiadas con el programa de cuarto dormitorio y piso firme. | BE12: ='DES01 2025'!J155 -> Porcentaje de beneficiarios con la Expo-Economía social | BI12: ='DES01 2025'!J156 -> Porcentaje de acciones realizadas que integran a la población adulta | BM12: ='DES01 2025'!J157 -> Porcentaje de sesiones para la atención de los adultos mayores. | BQ12: ='DES01 2025'!J158 -> Porcentaje de talleres realizados para la elaboración de manualidades | BU12: ='DES01 2025'!J159 -> Porcentaje de actividades que promueven el deporte y la participación activa de los jovenes | BY12: ='DES01 2025'!J160 -> Porcentaje de servicios ofecidos para las juventudes Santiaguenses | CC12: ='DES01 2025'!J161 -> Porcentaje de mantenimientos realizados a los espacios deportivos en el municipio. | CG12: ='DES01 2025'!J162 -> Porcentaje de localidades del municipio que han sido registradas como comunidades indígenas. | CK12: ='DES01 2025'!J163 -> Porcentaje de representantes indígenas promovidos en las comunidades. | CO12: ='DES01 2025'!J164 -> Porcentaje de talleres realizados de la lengua materna hñahñú. | CS12: ='DES01 2025'!$J165 -> Porcentaje de acciones para fortalecer a las mujeres Santiaguenses | CW12: ='DES01 2025'!$J166 -> Porcentaje de capacitaciones realizadas para la erradicación de la violencia de genero en el gobierno municipal. | DA12: ='DES01 2025'!$J167 -> Porcentaje de asesorias psicológicas y jurídicas realizadas a mujeres. | DE12: ='DES01 2025'!$J168 -> Porcentaje de acciones para contribuir al fortalecimiento de la protección de los derechos de las niñas, niños y adolescentes de Santiago de Anaya. | DI12: ='DES01 2025'!$J169 -> Porcentaje de difusiones de información sobre la protección y difusión de los derechos de las NNA y prevención de violencia. | DM12: ='DES01 2025'!$J170 -> Porcentaje de talleres enfocados a promover los derechos de las niñas, niños y adolescentes. | DQ12: ='DES01 2025'!$J171 -> Porcentaje de asesorías jurídicas realizadas para hacer valer y respectar los derechos de las NNA.
A14: IDENTIFICACIÓN DEL INDICADOR | B14: ='DES01 2025'!I141 -> MBB00201 | C14: DIMENSIÓN A MEDIR | D14: ='DES01 2025'!N141 -> Eficacia | E14: IDENTIFICACIÓN DEL INDICADOR | F14: ='DES01 2025'!I142 -> MBB00202 | G14: DIMENSIÓN A MEDIR | H14: ='DES01 2025'!N142 -> Eficacia | I14: IDENTIFICACIÓN DEL INDICADOR | J14: ='DES01 2025'!I143 -> MBB00203 | K14: DIMENSIÓN A MEDIR | L14: ='DES01 2025'!N143 -> Eficiencia | M14: IDENTIFICACIÓN DEL INDICADOR | N14: ='DES01 2025'!I144 -> MBB00204 | O14: DIMENSIÓN A MEDIR | P14: ='DES01 2025'!N144 -> Eficiencia | Q14: IDENTIFICACIÓN DEL INDICADOR | R14: ='DES01 2025'!I145 -> MBB00205 | S14: DIMENSIÓN A MEDIR | T14: ='DES01 2025'!N145 -> Eficiencia | U14: IDENTIFICACIÓN DEL INDICADOR | V14: ='DES01 2025'!I146 -> MBB00206 | W14: DIMENSIÓN A MEDIR | X14: ='DES01 2025'!N146 -> Eficiencia | Y14: IDENTIFICACIÓN DEL INDICADOR | Z14: ='DES01 2025'!I147 -> MBB00207 | AA14: DIMENSIÓN A MEDIR | AB14: ='DES01 2025'!N147 -> Eficiencia | AC14: IDENTIFICACIÓN DEL INDICADOR | AD14: ='DES01 2025'!I148 -> MBB00208 | AE14: DIMENSIÓN A MEDIR | AF14: ='DES01 2025'!N148 -> Eficiencia | AG14: IDENTIFICACIÓN DEL INDICADOR | AH14: ='DES01 2025'!I149 -> MBB00209 | AI14: DIMENSIÓN A MEDIR | AJ14: ='DES01 2025'!N149 -> Eficiencia | AK14: IDENTIFICACIÓN DEL INDICADOR | AL14: ='DES01 2025'!I150 -> MBB00210 | AM14: DIMENSIÓN A MEDIR | AN14: ='DES01 2025'!N150 -> Eficiencia | AO14: IDENTIFICACIÓN DEL INDICADOR | AP14: ='DES01 2025'!I151 -> MBB00211 | AQ14: DIMENSIÓN A MEDIR | AR14: ='DES01 2025'!N151 -> Eficiencia | AS14: IDENTIFICACIÓN DEL INDICADOR | AT14: ='DES01 2025'!I152 -> MBB00212 | AU14: DIMENSIÓN A MEDIR | AV14: ='DES01 2025'!N152 -> Eficacia | AW14: IDENTIFICACIÓN DEL INDICADOR | AX14: ='DES01 2025'!I153 -> MBB00213 | AY14: DIMENSIÓN A MEDIR | AZ14: ='DES01 2025'!N153 -> Eficiencia | BA14: IDENTIFICACIÓN DEL INDICADOR | BB14: ='DES01 2025'!I154 -> MBB00214 | BC14: DIMENSIÓN A MEDIR | BD14: ='DES01 2025'!N154 -> Eficiencia | BE14: IDENTIFICACIÓN DEL INDICADOR | BF14: ='DES01 2025'!I155 -> MBB00215 | BG14: DIMENSIÓN A MEDIR | BH14: ='DES01 2025'!N155 -> Eficiencia | BI14: IDENTIFICACIÓN DEL INDICADOR | BJ14: ='DES01 2025'!I156 -> MBB00216 | BK14: DIMENSIÓN A MEDIR | BL14: ='DES01 2025'!N156 -> Eficiencia | BM14: IDENTIFICACIÓN DEL INDICADOR | BN14: ='DES01 2025'!I157 -> MBB00217 | BO14: DIMENSIÓN A MEDIR | BP14: ='DES01 2025'!N157 -> Eficiencia | BQ14: IDENTIFICACIÓN DEL INDICADOR | BR14: ='DES01 2025'!I158 -> MBB00218 | BS14: DIMENSIÓN A MEDIR | BT14: ='DES01 2025'!N158 -> Eficiencia | BU14: IDENTIFICACIÓN DEL INDICADOR | BV14: ='DES01 2025'!I159 -> MBB00219 | BW14: DIMENSIÓN A MEDIR | BX14: ='DES01 2025'!N159 -> Eficiencia | BY14: IDENTIFICACIÓN DEL INDICADOR | BZ14: ='DES01 2025'!I160 -> MBB00220 | CA14: DIMENSIÓN A MEDIR | CB14: ='DES01 2025'!N160 -> Eficiencia | CC14: IDENTIFICACIÓN DEL INDICADOR | CD14: ='DES01 2025'!I161 -> MBB00221 | CE14: DIMENSIÓN A MEDIR | CF14: ='DES01 2025'!N161 -> Eficacia | CG14: IDENTIFICACIÓN DEL INDICADOR | CH14: ='DES01 2025'!I162 -> MBB00222 | CI14: DIMENSIÓN A MEDIR | CJ14: ='DES01 2025'!N162 -> Eficacia | CK14: IDENTIFICACIÓN DEL INDICADOR | CL14: ='DES01 2025'!I163 -> MBB00223 | CM14: DIMENSIÓN A MEDIR | CN14: ='DES01 2025'!N163 -> Eficiencia | CO14: IDENTIFICACIÓN DEL INDICADOR | CP14: ='DES01 2025'!I164 -> MBB00224 | CQ14: DIMENSIÓN A MEDIR | CR14: ='DES01 2025'!N164 -> Eficiencia | CS14: IDENTIFICACIÓN DEL INDICADOR | CT14: ='DES01 2025'!$I165 -> MBB00225 | CU14: DIMENSIÓN A MEDIR | CV14: ='DES01 2025'!$N165 -> Calidad | CW14: IDENTIFICACIÓN DEL INDICADOR | CX14: ='DES01 2025'!$I166 -> MBB00226 | CY14: DIMENSIÓN A MEDIR | CZ14: ='DES01 2025'!$N166 -> Eficiencia | DA14: IDENTIFICACIÓN DEL INDICADOR | DB14: ='DES01 2025'!$I167 -> MBB00227 | DC14: DIMENSIÓN A MEDIR | DD14: ='DES01 2025'!$N167 -> Eficiencia | DE14: IDENTIFICACIÓN DEL INDICADOR | DF14: ='DES01 2025'!$I168 -> MBB00228 | DG14: DIMENSIÓN A MEDIR | DH14: ='DES01 2025'!$N168 -> Calidad | DI14: IDENTIFICACIÓN DEL INDICADOR | DJ14: ='DES01 2025'!$I169 -> MBB00229 | DK14: DIMENSIÓN A MEDIR | DL14: ='DES01 2025'!$N169 -> Eficiencia | DM14: IDENTIFICACIÓN DEL INDICADOR | DN14: ='DES01 2025'!$I170 -> MBB00230 | DO14: DIMENSIÓN A MEDIR | DP14: ='DES01 2025'!$N170 -> Eficiencia | DQ14: IDENTIFICACIÓN DEL INDICADOR | DR14: ='DES01 2025'!$I171 -> MBB00231 | DS14: DIMENSIÓN A MEDIR | DT14: ='DES01 2025'!$N171 -> Eficiencia
A16: NIVEL | C16: ='DES01 2025'!G141 -> Fin | E16: NIVEL | G16: ='DES01 2025'!G142 -> Propósito | I16: NIVEL | K16: ='DES01 2025'!G143 -> Componente 1 | M16: NIVEL | O16: ='DES01 2025'!G144 -> Actividad 1.1 | Q16: NIVEL | S16: ='DES01 2025'!G145 -> Actividad 1.2 | U16: NIVEL | W16: ='DES01 2025'!G146 -> Actividad 1.3 | Y16: NIVEL | AA16: ='DES01 2025'!G147 -> Actividad 1.4 | AC16: NIVEL | AE16: ='DES01 2025'!G148 -> Actividad 1.5 | AG16: NIVEL | AI16: ='DES01 2025'!G149 -> Actividad 1.6 | AK16: NIVEL | AM16: ='DES01 2025'!G150 -> Actividad 1.7 | AO16: NIVEL | AQ16: ='DES01 2025'!G151 -> Actividad 1.8 | AS16: NIVEL | AU16: ='DES01 2025'!G152 -> Componente 2 | AW16: NIVEL | AY16: ='DES01 2025'!G153 -> Actividad.2.1 | BA16: NIVEL | BC16: ='DES01 2025'!G154 -> Actividad.2.2 | BE16: NIVEL | BG16: ='DES01 2025'!G155 -> Actividad.2.3 | BI16: NIVEL | BK16: ='DES01 2025'!G156 -> Componente 3 | BM16: NIVEL | BO16: ='DES01 2025'!G157 -> Actividad 3.1 | BQ16: NIVEL | BS16: ='DES01 2025'!G158 -> Actividad 3.2 | BU16: NIVEL | BW16: ='DES01 2025'!G159 -> Componente 4 | BY16: NIVEL | CA16: ='DES01 2025'!G160 -> Actividad 4.1 | CC16: NIVEL | CE16: ='DES01 2025'!G161 -> Actividad 4.2 | CG16: NIVEL | CI16: ='DES01 2025'!G162 -> Componente 5 | CK16: NIVEL | CM16: ='DES01 2025'!G163 -> Actividad 5.1 | CO16: NIVEL | CQ16: ='DES01 2025'!G164 -> Actividad 5.2 | CS16: NIVEL | CU16: ='DES01 2025'!$G165 -> Componente 6 | CW16: NIVEL | CY16: ='DES01 2025'!$G166 -> Actividad 6.1 | DA16: NIVEL | DC16: ='DES01 2025'!$G167 -> Actividad 6.2 | DE16: NIVEL | DG16: ='DES01 2025'!$G168 -> Componente 7 | DI16: NIVEL | DK16: ='DES01 2025'!$G169 -> Actividad 7.1 | DM16: NIVEL | DO16: ='DES01 2025'!$G170 -> Actividad 7.2 | DQ16: NIVEL | DS16: ='DES01 2025'!$G171 -> Actividad 7.3
A17: DEFINICIÓN | E17: DEFINICIÓN | I17: DEFINICIÓN | M17: DEFINICIÓN | Q17: DEFINICIÓN | U17: DEFINICIÓN | Y17: DEFINICIÓN | AC17: DEFINICIÓN | AG17: DEFINICIÓN | AK17: DEFINICIÓN | AO17: DEFINICIÓN | AS17: DEFINICIÓN | AW17: DEFINICIÓN | BA17: DEFINICIÓN | BE17: DEFINICIÓN | BI17: DEFINICIÓN | BM17: DEFINICIÓN | BQ17: DEFINICIÓN | BU17: DEFINICIÓN | BY17: DEFINICIÓN | CC17: DEFINICIÓN | CG17: DEFINICIÓN | CK17: DEFINICIÓN | CO17: DEFINICIÓN | CS17: DEFINICIÓN | CW17: DEFINICIÓN | DA17: DEFINICIÓN | DE17: DEFINICIÓN | DI17: DEFINICIÓN | DM17: DEFINICIÓN | DQ17: DEFINICIÓN
A18: ='DES01 2025'!L141 -> Personas que presentan tres o más carencias sociales y que, además, se encuentran por debajo de la línea de pobreza extrema por ingresos. | E18: ='DES01 2025'!L142 -> Este indicador refleja el porcentaje de personas que presentan la carencia por acceso a la seguridad social en términos de la medición multidimensional de la pobreza. | I18: ='DES01 2025'!L143 -> Se refiere al porcentaje de los servicios que están disponibles para atención de enfermedades en el Sistema Dif Municipal. | M18: ='DES01 2025'!L144 -> Se refiere al porcentaje de pacientes con algún tipo de dificultad en su movilidad que recibieron terapia por la unidad básica de rehabilitación . | Q18: ='DES01 2025'!L145 -> Mide el porcentaje de terapias de lenguaje brindadas a población vulnerable ofreciendo un tratamiento que puede ayudar a mejorar las habilidades de comunicación. | U18: ='DES01 2025'!L146 -> Mide el porcentaje de terapias de lenguaje brindadas a población vulnerable ofreciendo un tratamiento que puede ayudar a mejorar las habilidades de comunicación. | Y18: ='DES01 2025'!L147 -> Se refiere al porcentaje de consultas generales otorgadas a la población, dando atención a la población vulnerable. | AC18: ='DES01 2025'!L148 -> Se refiere al porcentaje de consultas de especialidad otorgadas a la población, dando atención a la población vulnerable. | AG18: ='DES01 2025'!L149 -> Mide el total de servicios de radiología e imagen ofrecidos a la población vulnerable que necesito del servicio sobre los servicios proyectados | AK18: ='DES01 2025'!L150 -> Se refiere al porcentaje de consultas y o servicios dentales otorgadas a la población, dando atención a la población vulnerable. | AO18: ='DES01 2025'!L151 -> Se refiere al porcentaje de traslados realizados a población vulnerable dentro y fuera del municipio. | AS18: ='DES01 2025'!L152 -> Este indicador se refiere a la cantidad de programas sociales que se ofrecen en el gobienro municipal en favor de las personas más vulnerables | AW18: ='DES01 2025'!L153 -> Se refiere al porcentaje de familias del municipio que se benefician con algun programa de mejoramiento de vivienda (tinacos, calentadores solares, laminas, colchones) de acuerdo a las familias programas. | BA18: ='DES01 2025'!L154 -> Se refiere al porcentaje de población que se beneficia con el programa de cuarto dormitorio y piso firme de acuerdo a las reglas de operación del programa. | BE18: ='DES01 2025'!L155 -> Se refiere al porcentaje de beneficiados con la Expo Economía Social para la adquisición de productos diversos como lo son calentadores solares, tinacos y tanques de almacenamiento, colchones, camas y herramientas de trabajo. | BI18: ='DES01 2025'!L156 -> Este indicador presenta el numero de actividades que se realizan en favor de los adultos mayores dentro del municipio. | BM18: ='DES01 2025'!L157 -> Se refiere al total de sesiones realizadas con actividades fisicas, dinamicas, manualidades, talleres preventivos e informativos con los grupos de las diferentes comunidades del municipio, para fomentar una cultura de respeto y trato digno, fortalecer lazos familiares, asi como fomentar las acciones tendientes a procurar una atencion oportuna y de calidad a los adultos mayores. | BQ18: ='DES01 2025'!L158 -> Se refiere al porcentaje de asistentes en los talleres de elaboración de manualidades que sirven como terapia ocupacional. | BU18: ='DES01 2025'!L159 -> Este indicador representa el numero de servicios que se brindan en la Instacia Municipal de la Juventud | BY18: ='DES01 2025'!L160 -> Este indicador representa el numero de acciones que realiza la administración municipal en favor del deporte y de las juventudes. | CC18: ='DES01 2025'!L161 -> Se refiere al porcentaje de centros deportivos acondicionados con la intervención del municipio. | CG18: ='DES01 2025'!L162 -> Indica el numero de localidades que se han registrado como comunidades indígenas mediante un procedimiento formal ante las Instancias correspondientes. | CK18: ='DES01 2025'!L163 -> Se refiere al porcentaje de comunidades que tienen a una figura como representante de su comunidad indígena, por lo general es el delegado municipal. | CO18: ='DES01 2025'!L164 -> Se refiere al porcentaje de talleres que buscan el rescate de la lengua materna Hñahñú en nuestro municipio para preservar la lengua. | CS18: ='DES01 2025'!$L165 -> Este indicador representa el numero de acciones que se realizan en favor de las mujeres Santiaguenses a través de la Instacia Municipal para el Desarrollo de las Mujeres | CW18: ='DES01 2025'!$L166 -> Se refiere al porcentaje de capacitaciones en temas de erradicación de la violencia de genero realizadas e la administración municipal | DA18: ='DES01 2025'!$L167 -> Indica la capacidad de atender la solicitud de asesoría psicológica y jurídica para las mujeres del municipio. | DE18: ='DES01 2025'!$L168 -> Este indicador representa el numero de acciones que se realizan en favor de garantizar lo derechos de los niños, niñas y adolescentes. | DI18: ='DES01 2025'!$L169 -> Se refiere al cumplimiento de difusiones en diferentes medios de comunicación, sobre los derechos de los NNA, como lo son Facebook, WhatsApp. | DM18: ='DES01 2025'!$L170 -> Se refiere al porcentaje de talleres /o conferencias realizadas para el reconocimiento sobre los derechos de los NNA orientado principalmente a Instituciones educativas nivel básico. | DQ18: ='DES01 2025'!$L171 -> Se refiere al porcentaje de asesorías jurídicas otorgadas a familiares de NNA para hacer valer y respectar los derechos de las NNA
A20: MÉTODO DE CÁLCULO | B20: ='DES01 2025'!K141 -> Pobreza a nivel municipal https://www.coneval.org.mx/Medicion/Paginas/Pobreza-municipio-2010-2020.aspx | C20: UNIDAD DE MEDIDA | D20: ='DES01 2025'!Y141 -> Porcentaje | E20: MÉTODO DE CÁLCULO | F20: ='DES01 2025'!K142 -> Pobreza a nivel municipal https://www.coneval.org.mx/Medicion/Paginas/Pobreza-municipio-2010-2020.aspx | G20: UNIDAD DE MEDIDA | H20: ='DES01 2025'!Y142 -> Porcentaje | I20: MÉTODO DE CÁLCULO | J20: ='DES01 2025'!K143 -> %SR= (Total de servicios prestados/ Total de servicios disponibles) *100 | K20: UNIDAD DE MEDIDA | L20: ='DES01 2025'!Y143 -> Porcentaje | M20: MÉTODO DE CÁLCULO | N20: ='DES01 2025'!K144 -> %TPB= (Total de pacientes atendidos con terapias físicas/Total de terapias programadas)*100 | O20: UNIDAD DE MEDIDA | P20: ='DES01 2025'!Y144 -> Porcentaje | Q20: MÉTODO DE CÁLCULO | R20: ='DES01 2025'!K145 -> %TOR=Total de terapias ocupacionales realizadas/Total de terapias proyectadas*100 | S20: UNIDAD DE MEDIDA | T20: ='DES01 2025'!Y145 -> Porcentaje | U20: MÉTODO DE CÁLCULO | V20: ='DES01 2025'!K146 -> %TLR=(Total de terapias de lenguaje realizadas / Total de terapias proyectadas) *100 | W20: UNIDAD DE MEDIDA | X20: ='DES01 2025'!Y146 -> Porcentaje | Y20: MÉTODO DE CÁLCULO | Z20: ='DES01 2025'!K147 -> %CGO=(Total de consultas otorgadas / Total de consultas proyectadas)*100 | AA20: UNIDAD DE MEDIDA | AB20: ='DES01 2025'!Y147 -> Porcentaje | AC20: MÉTODO DE CÁLCULO | AD20: ='DES01 2025'!K148 -> %CGO=(Total de consultas de especialidad otorgadas / Total de consultas proyectadas)*100 | AE20: UNIDAD DE MEDIDA | AF20: ='DES01 2025'!Y148 -> Porcentaje | AG20: MÉTODO DE CÁLCULO | AH20: ='DES01 2025'!K149 -> %SR=(Servicios de radiología realizados / Total de servicios proyectados)*100 | AI20: UNIDAD DE MEDIDA | AJ20: ='DES01 2025'!Y149 -> Porcentaje | AK20: MÉTODO DE CÁLCULO | AL20: ='DES01 2025'!K150 -> %SD=(Total de consultas o servicios dentales otorgadas / Total de consultas proyectadas)*100 | AM20: UNIDAD DE MEDIDA | AN20: ='DES01 2025'!Y150 -> Porcentaje | AO20: MÉTODO DE CÁLCULO | AP20: ='DES01 2025'!K151 -> %TR=(Total de traslados realizados / Total de traslados proyectados)*100 | AQ20: UNIDAD DE MEDIDA | AR20: ='DES01 2025'!Y151 -> Porcentaje | AS20: MÉTODO DE CÁLCULO | AT20: ='DES01 2025'!K152 -> %PPR=(Total de programas sociales ofrecidos/total de programas sociales programados)*100 | AU20: UNIDAD DE MEDIDA | AV20: ='DES01 2025'!Y152 -> Porcentaje | AW20: MÉTODO DE CÁLCULO | AX20: ='DES01 2025'!K153 -> %FBP=(Total de familias beneficiadas con el programa/Total de familias proyectadas a beneficiar)*100 | AY20: UNIDAD DE MEDIDA | AZ20: ='DES01 2025'!Y153 -> Porcentaje | BA20: MÉTODO DE CÁLCULO | BB20: ='DES01 2025'!K154 -> %CD= (Total de beneficiarios con cuarto dormitorio / Total de personas candidatas al programa) *100 | BC20: UNIDAD DE MEDIDA | BD20: ='DES01 2025'!Y154 -> Porcentaje | BE20: MÉTODO DE CÁLCULO | BF20: ='DES01 2025'!K155 -> %BES= (Total de ciudadanos que adquirieron productos a bajo costo / Total de personas que proyectan beneficiar )*100 | BG20: UNIDAD DE MEDIDA | BH20: ='DES01 2025'!Y155 -> Porcentaje | BI20: MÉTODO DE CÁLCULO | BJ20: ='DES01 2025'!K156 -> %ARAD= (Total de acciones realizadas/Total de acciones programadas)*100 | BK20: UNIDAD DE MEDIDA | BL20: ='DES01 2025'!Y156 -> Porcentaje | BM20: MÉTODO DE CÁLCULO | BN20: ='DES01 2025'!K157 -> %TB=(Total de sesiones realizadas / Total de sesiones programados) *100 | BO20: UNIDAD DE MEDIDA | BP20: ='DES01 2025'!Y157 -> Porcentaje | BQ20: MÉTODO DE CÁLCULO | BR20: ='DES01 2025'!K158 -> %TR= (Total de talleres realizados / Total de talleres progrados) *100 | BS20: UNIDAD DE MEDIDA | BT20: ='DES01 2025'!Y158 -> Porcentaje | BU20: MÉTODO DE CÁLCULO | BV20: ='DES01 2025'!K159 -> %ARDJ=(Total de actividades realizadas/Total de actividades programadas)*100 | BW20: UNIDAD DE MEDIDA | BX20: ='DES01 2025'!Y159 -> Porcentaje | BY20: MÉTODO DE CÁLCULO | BZ20: ='DES01 2025'!K160 -> %(Total de servicios brindados/Total de servicios disponibles)*100 | CA20: UNIDAD DE MEDIDA | CB20: ='DES01 2025'!Y160 -> Porcentaje | CC20: MÉTODO DE CÁLCULO | CD20: ='DES01 2025'!K161 -> %MED= (Total de espacios deportivos que reciben mantenimiento / Total de espacios deportivos en el Municipio)*100 | CE20: UNIDAD DE MEDIDA | CF20: ='DES01 2025'!Y161 -> Porcentaje | CG20: MÉTODO DE CÁLCULO | CH20: ='DES01 2025'!K162 -> %LRCI= (Total de localidades registradas como comunidades indígenas / Total de comunidades en el Municipio)*100 | CI20: UNIDAD DE MEDIDA | CJ20: ='DES01 2025'!Y162 -> Porcentaje | CK20: MÉTODO DE CÁLCULO | CL20: ='DES01 2025'!K163 -> %RI= (Total de comunidades con representantes indígenas / Total de comunidades registradas como indígenas) *100 | CM20: UNIDAD DE MEDIDA | CN20: ='DES01 2025'!Y163 -> Porcentaje | CO20: MÉTODO DE CÁLCULO | CP20: ='DES01 2025'!K164 -> %TLM= (Total de talleres impartidos / Total de talleres proyectados a realizar) *100 | CQ20: UNIDAD DE MEDIDA | CR20: ='DES01 2025'!Y164 -> Porcentaje | CS20: MÉTODO DE CÁLCULO | CT20: ='DES01 2025'!$K165 -> %ARM=(Total de acciones realizadas/ Total de acciones programadas)*100 | CU20: UNIDAD DE MEDIDA | CV20: ='DES01 2025'!$Y165 -> Porcentaje | CW20: MÉTODO DE CÁLCULO | CX20: ='DES01 2025'!$K166 -> %CR= (Total de capacitaciones realizadas / Total de capacitaciones proyectadas) *100 | CY20: UNIDAD DE MEDIDA | CZ20: ='DES01 2025'!$Y166 -> Porcentaje | DA20: MÉTODO DE CÁLCULO | DB20: ='DES01 2025'!$K167 -> %APR=(Total de asesorías realizadas/Total de asesorías solicitadas/programadas)*100 | DC20: UNIDAD DE MEDIDA | DD20: ='DES01 2025'!$Y167 -> Porcentaje | DE20: MÉTODO DE CÁLCULO | DF20: ='DES01 2025'!$K168 -> %(Total de acciones realizadas/Total de acciones programadas)*100 | DG20: UNIDAD DE MEDIDA | DH20: ='DES01 2025'!$Y168 -> Porcentaje | DI20: MÉTODO DE CÁLCULO | DJ20: ='DES01 2025'!$K169 -> %DR=(Total de difusiones realizadas/Total de difusiones programadas)*100 | DK20: UNIDAD DE MEDIDA | DL20: ='DES01 2025'!$Y169 -> Porcentaje | DM20: MÉTODO DE CÁLCULO | DN20: ='DES01 2025'!$K170 -> %CR=(Total de talleres realizados/Total de talleres programados )*100 | DO20: UNIDAD DE MEDIDA | DP20: ='DES01 2025'!$Y170 -> Porcentaje | DQ20: MÉTODO DE CÁLCULO | DR20: ='DES01 2025'!$K171 -> %AJ=(Total de asesorías realizadas/Total de asesorías solicitadas y programadas)*100 | DS20: UNIDAD DE MEDIDA | DT20: ='DES01 2025'!$Y171 -> Porcentaje
A22: DESAGREGACIÓN GEOGRÁFICA | B22: Municipal | C22: FRECUENCIA DE MEDICIÓN | D22: ='DES01 2025'!O141 -> Quinquenal | E22: DESAGREGACIÓN GEOGRÁFICA | F22: Municipal | G22: FRECUENCIA DE MEDICIÓN | H22: ='DES01 2025'!O142 -> Quinquenal | I22: DESAGREGACIÓN GEOGRÁFICA | J22: Municipal | K22: FRECUENCIA DE MEDICIÓN | L22: ='DES01 2025'!O143 -> Semestral | M22: DESAGREGACIÓN GEOGRÁFICA | N22: Municipal | O22: FRECUENCIA DE MEDICIÓN | P22: ='DES01 2025'!O144 -> Trimestral | Q22: DESAGREGACIÓN GEOGRÁFICA | R22: Municipal | S22: FRECUENCIA DE MEDICIÓN | T22: ='DES01 2025'!O145 -> Trimestral | U22: DESAGREGACIÓN GEOGRÁFICA | V22: Municipal | W22: FRECUENCIA DE MEDICIÓN | X22: ='DES01 2025'!O146 -> Trimestral | Y22: DESAGREGACIÓN GEOGRÁFICA | Z22: Municipal | AA22: FRECUENCIA DE MEDICIÓN | AB22: ='DES01 2025'!O147 -> Trimestral | AC22: DESAGREGACIÓN GEOGRÁFICA | AD22: Municipal | AE22: FRECUENCIA DE MEDICIÓN | AF22: ='DES01 2025'!O148 -> Trimestral | AG22: DESAGREGACIÓN GEOGRÁFICA | AH22: Municipal | AI22: FRECUENCIA DE MEDICIÓN | AJ22: ='DES01 2025'!O149 -> Trimestral | AK22: DESAGREGACIÓN GEOGRÁFICA | AL22: Municipal | AM22: FRECUENCIA DE MEDICIÓN | AN22: ='DES01 2025'!O150 -> Trimestral | AO22: DESAGREGACIÓN GEOGRÁFICA | AP22: Municipal | AQ22: FRECUENCIA DE MEDICIÓN | AR22: ='DES01 2025'!O151 -> Trimestral | AS22: DESAGREGACIÓN GEOGRÁFICA | AT22: Municipal | AU22: FRECUENCIA DE MEDICIÓN | AV22: ='DES01 2025'!O152 -> Semestral | AW22: DESAGREGACIÓN GEOGRÁFICA | AX22: Municipal | AY22: FRECUENCIA DE MEDICIÓN | AZ22: ='DES01 2025'!O153 -> Trimestral | BA22: DESAGREGACIÓN GEOGRÁFICA | BB22: Municipal | BC22: FRECUENCIA DE MEDICIÓN | BD22: ='DES01 2025'!O154 -> Trimestral | BE22: DESAGREGACIÓN GEOGRÁFICA | BF22: Municipal | BG22: FRECUENCIA DE MEDICIÓN | BH22: ='DES01 2025'!O155 -> Trimestral | BI22: DESAGREGACIÓN GEOGRÁFICA | BJ22: Municipal | BK22: FRECUENCIA DE MEDICIÓN | BL22: ='DES01 2025'!O156 -> Trimestral | BM22: DESAGREGACIÓN GEOGRÁFICA | BN22: Municipal | BO22: FRECUENCIA DE MEDICIÓN | BP22: ='DES01 2025'!O157 -> Trimestral | BQ22: DESAGREGACIÓN GEOGRÁFICA | BR22: Municipal | BS22: FRECUENCIA DE MEDICIÓN | BT22: ='DES01 2025'!O158 -> Trimestral | BU22: DESAGREGACIÓN GEOGRÁFICA | BV22: Municipal | BW22: FRECUENCIA DE MEDICIÓN | BX22: ='DES01 2025'!O159 -> Trimestral | BY22: DESAGREGACIÓN GEOGRÁFICA | BZ22: Municipal | CA22: FRECUENCIA DE MEDICIÓN | CB22: ='DES01 2025'!O160 -> Trimestral | CC22: DESAGREGACIÓN GEOGRÁFICA | CD22: Municipal | CE22: FRECUENCIA DE MEDICIÓN | CF22: ='DES01 2025'!O161 -> Trimestral | CG22: DESAGREGACIÓN GEOGRÁFICA | CH22: Municipal | CI22: FRECUENCIA DE MEDICIÓN | CJ22: ='DES01 2025'!O162 -> Semestral | CK22: DESAGREGACIÓN GEOGRÁFICA | CL22: Municipal | CM22: FRECUENCIA DE MEDICIÓN | CN22: ='DES01 2025'!O163 -> Trimestral | CO22: DESAGREGACIÓN GEOGRÁFICA | CP22: Municipal | CQ22: FRECUENCIA DE MEDICIÓN | CR22: ='DES01 2025'!O164 -> Trimestral | CS22: DESAGREGACIÓN GEOGRÁFICA | CT22: Municipal | CU22: FRECUENCIA DE MEDICIÓN | CV22: ='DES01 2025'!$O165 -> Semestral | CW22: DESAGREGACIÓN GEOGRÁFICA | CX22: Municipal | CY22: FRECUENCIA DE MEDICIÓN | CZ22: ='DES01 2025'!$O166 -> Trimestral | DA22: DESAGREGACIÓN GEOGRÁFICA | DB22: Municipal | DC22: FRECUENCIA DE MEDICIÓN | DD22: ='DES01 2025'!$O167 -> Trimestral | DE22: DESAGREGACIÓN GEOGRÁFICA | DF22: Municipal | DG22: FRECUENCIA DE MEDICIÓN | DH22: ='DES01 2025'!$O168 -> Trimestral | DI22: DESAGREGACIÓN GEOGRÁFICA | DJ22: Municipal | DK22: FRECUENCIA DE MEDICIÓN | DL22: ='DES01 2025'!$O169 -> Trimestral | DM22: DESAGREGACIÓN GEOGRÁFICA | DN22: Municipal | DO22: FRECUENCIA DE MEDICIÓN | DP22: ='DES01 2025'!$O170 -> Trimestral | DQ22: DESAGREGACIÓN GEOGRÁFICA | DR22: Municipal | DS22: FRECUENCIA DE MEDICIÓN | DT22: ='DES01 2025'!$O171 -> Trimestral
A24: III. CARACTERÍSTICAS DEL INDICADOR | E24: III. CARACTERÍSTICAS DEL INDICADOR | I24: III. CARACTERÍSTICAS DEL INDICADOR | M24: III. CARACTERÍSTICAS DEL INDICADOR | Q24: III. CARACTERÍSTICAS DEL INDICADOR | U24: III. CARACTERÍSTICAS DEL INDICADOR | Y24: III. CARACTERÍSTICAS DEL INDICADOR | AC24: III. CARACTERÍSTICAS DEL INDICADOR | AG24: III. CARACTERÍSTICAS DEL INDICADOR | AK24: III. CARACTERÍSTICAS DEL INDICADOR | AO24: III. CARACTERÍSTICAS DEL INDICADOR | AS24: III. CARACTERÍSTICAS DEL INDICADOR | AW24: III. CARACTERÍSTICAS DEL INDICADOR | BA24: III. CARACTERÍSTICAS DEL INDICADOR | BE24: III. CARACTERÍSTICAS DEL INDICADOR | BI24: III. CARACTERÍSTICAS DEL INDICADOR | BM24: III. CARACTERÍSTICAS DEL INDICADOR | BQ24: III. CARACTERÍSTICAS DEL INDICADOR | BU24: III. CARACTERÍSTICAS DEL INDICADOR | BY24: III. CARACTERÍSTICAS DEL INDICADOR | CC24: III. CARACTERÍSTICAS DEL INDICADOR | CG24: III. CARACTERÍSTICAS DEL INDICADOR | CK24: III. CARACTERÍSTICAS DEL INDICADOR | CO24: III. CARACTERÍSTICAS DEL INDICADOR | CS24: III. CARACTERÍSTICAS DEL INDICADOR | CW24: III. CARACTERÍSTICAS DEL INDICADOR | DA24: III. CARACTERÍSTICAS DEL INDICADOR | DE24: III. CARACTERÍSTICAS DEL INDICADOR | DI24: III. CARACTERÍSTICAS DEL INDICADOR | DM24: III. CARACTERÍSTICAS DEL INDICADOR | DQ24: III. CARACTERÍSTICAS DEL INDICADOR
A25: CLARIDAD | B25: RELEVANCIA | C25: ECONOMÍA | D25: MONITOREABLE | E25: CLARIDAD | F25: RELEVANCIA | G25: ECONOMÍA | H25: MONITOREABLE | I25: CLARIDAD | J25: RELEVANCIA | K25: ECONOMÍA | L25: MONITOREABLE | M25: CLARIDAD | N25: RELEVANCIA | O25: ECONOMÍA | P25: MONITOREABLE | Q25: CLARIDAD | R25: RELEVANCIA | S25: ECONOMÍA | T25: MONITOREABLE | U25: CLARIDAD | V25: RELEVANCIA | W25: ECONOMÍA | X25: MONITOREABLE | Y25: CLARIDAD | Z25: RELEVANCIA | AA25: ECONOMÍA | AB25: MONITOREABLE | AC25: CLARIDAD | AD25: RELEVANCIA | AE25: ECONOMÍA | AF25: MONITOREABLE | AG25: CLARIDAD | AH25: RELEVANCIA | AI25: ECONOMÍA | AJ25: MONITOREABLE | AK25: CLARIDAD | AL25: RELEVANCIA | AM25: ECONOMÍA | AN25: MONITOREABLE | AO25: CLARIDAD | AP25: RELEVANCIA | AQ25: ECONOMÍA | AR25: MONITOREABLE | AS25: CLARIDAD | AT25: RELEVANCIA | AU25: ECONOMÍA | AV25: MONITOREABLE | AW25: CLARIDAD | AX25: RELEVANCIA | AY25: ECONOMÍA | AZ25: MONITOREABLE | BA25: CLARIDAD | BB25: RELEVANCIA | BC25: ECONOMÍA | BD25: MONITOREABLE | BE25: CLARIDAD | BF25: RELEVANCIA | BG25: ECONOMÍA | BH25: MONITOREABLE | BI25: CLARIDAD | BJ25: RELEVANCIA | BK25: ECONOMÍA | BL25: MONITOREABLE | BM25: CLARIDAD | BN25: RELEVANCIA | BO25: ECONOMÍA | BP25: MONITOREABLE | BQ25: CLARIDAD | BR25: RELEVANCIA | BS25: ECONOMÍA | BT25: MONITOREABLE | BU25: CLARIDAD | BV25: RELEVANCIA | BW25: ECONOMÍA | BX25: MONITOREABLE | BY25: CLARIDAD | BZ25: RELEVANCIA | CA25: ECONOMÍA | CB25: MONITOREABLE | CC25: CLARIDAD | CD25: RELEVANCIA | CE25: ECONOMÍA | CF25: MONITOREABLE | CG25: CLARIDAD | CH25: RELEVANCIA | CI25: ECONOMÍA | CJ25: MONITOREABLE | CK25: CLARIDAD | CL25: RELEVANCIA | CM25: ECONOMÍA | CN25: MONITOREABLE | CO25: CLARIDAD | CP25: RELEVANCIA | CQ25: ECONOMÍA | CR25: MONITOREABLE | CS25: CLARIDAD | CT25: RELEVANCIA | CU25: ECONOMÍA | CV25: MONITOREABLE | CW25: CLARIDAD | CX25: RELEVANCIA | CY25: ECONOMÍA | CZ25: MONITOREABLE | DA25: CLARIDAD | DB25: RELEVANCIA | DC25: ECONOMÍA | DD25: MONITOREABLE | DE25: CLARIDAD | DF25: RELEVANCIA | DG25: ECONOMÍA | DH25: MONITOREABLE | DI25: CLARIDAD | DJ25: RELEVANCIA | DK25: ECONOMÍA | DL25: MONITOREABLE | DM25: CLARIDAD | DN25: RELEVANCIA | DO25: ECONOMÍA | DP25: MONITOREABLE | DQ25: CLARIDAD | DR25: RELEVANCIA | DS25: ECONOMÍA | DT25: MONITOREABLE
A26: SI | B26: SI | C26: SI | D26: SI | E26: SI | F26: SI | G26: SI | H26: SI | I26: SI | J26: SI | K26: SI | L26: SI | M26: SI | N26: SI | O26: SI | P26: SI | Q26: SI | R26: SI | S26: SI | T26: SI | U26: SI | V26: SI | W26: SI | X26: SI | Y26: SI | Z26: SI | AA26: SI | AB26: SI | AC26: SI | AD26: SI | AE26: SI | AF26: SI | AG26: SI | AH26: SI | AI26: SI | AJ26: SI | AK26: SI | AL26: SI | AM26: SI | AN26: SI | AO26: SI | AP26: SI | AQ26: SI | AR26: SI | AS26: SI | AT26: SI | AU26: SI | AV26: SI | AW26: SI | AX26: SI | AY26: SI | AZ26: SI | BA26: SI | BB26: SI | BC26: SI | BD26: SI | BE26: SI | BF26: SI | BG26: SI | BH26: SI | BI26: SI | BJ26: SI | BK26: SI | BL26: SI | BM26: SI | BN26: SI | BO26: SI | BP26: SI | BQ26: SI | BR26: SI | BS26: SI | BT26: SI | BU26: SI | BV26: SI | BW26: SI | BX26: SI | BY26: SI | BZ26: SI | CA26: SI | CB26: SI | CC26: SI | CD26: SI | CE26: SI | CF26: SI | CG26: SI | CH26: SI | CI26: SI | CJ26: SI | CK26: SI | CL26: SI | CM26: SI | CN26: SI | CO26: SI | CP26: SI | CQ26: SI | CR26: SI | CS26: SI | CT26: SI | CU26: SI | CV26: SI | CW26: SI | CX26: SI | CY26: SI | CZ26: SI | DA26: SI | DB26: SI | DC26: SI | DD26: SI | DE26: SI | DF26: SI | DG26: SI | DH26: SI | DI26: SI | DJ26: SI | DK26: SI | DL26: SI | DM26: SI | DN26: SI | DO26: SI | DP26: SI | DQ26: SI | DR26: SI | DS26: SI | DT26: SI
A27: ADECUADO | C27: APORTACIÓN MARGINAL | E27: ADECUADO | G27: APORTACIÓN MARGINAL | I27: ADECUADO | K27: APORTACIÓN MARGINAL | M27: ADECUADO | O27: APORTACIÓN MARGINAL | Q27: ADECUADO | S27: APORTACIÓN MARGINAL | U27: ADECUADO | W27: APORTACIÓN MARGINAL | Y27: ADECUADO | AA27: APORTACIÓN MARGINAL | AC27: ADECUADO | AE27: APORTACIÓN MARGINAL | AG27: ADECUADO | AI27: APORTACIÓN MARGINAL | AK27: ADECUADO | AM27: APORTACIÓN MARGINAL | AO27: ADECUADO | AQ27: APORTACIÓN MARGINAL | AS27: ADECUADO | AU27: APORTACIÓN MARGINAL | AW27: ADECUADO | AY27: APORTACIÓN MARGINAL | BA27: ADECUADO | BC27: APORTACIÓN MARGINAL | BE27: ADECUADO | BG27: APORTACIÓN MARGINAL | BI27: ADECUADO | BK27: APORTACIÓN MARGINAL | BM27: ADECUADO | BO27: APORTACIÓN MARGINAL | BQ27: ADECUADO | BS27: APORTACIÓN MARGINAL | BU27: ADECUADO | BW27: APORTACIÓN MARGINAL | BY27: ADECUADO | CA27: APORTACIÓN MARGINAL | CC27: ADECUADO | CE27: APORTACIÓN MARGINAL | CG27: ADECUADO | CI27: APORTACIÓN MARGINAL | CK27: ADECUADO | CM27: APORTACIÓN MARGINAL | CO27: ADECUADO | CQ27: APORTACIÓN MARGINAL | CS27: ADECUADO | CU27: APORTACIÓN MARGINAL | CW27: ADECUADO | CY27: APORTACIÓN MARGINAL | DA27: ADECUADO | DC27: APORTACIÓN MARGINAL | DE27: ADECUADO | DG27: APORTACIÓN MARGINAL | DI27: ADECUADO | DK27: APORTACIÓN MARGINAL | DM27: ADECUADO | DO27: APORTACIÓN MARGINAL | DQ27: ADECUADO | DS27: APORTACIÓN MARGINAL
A28: SI | C28: SI | E28: SI | G28: SI | I28: SI | K28: SI | M28: SI | O28: SI | Q28: SI | S28: SI | U28: SI | W28: SI | Y28: SI | AA28: SI | AC28: SI | AE28: SI | AG28: SI | AI28: SI | AK28: SI | AM28: SI | AO28: SI | AQ28: SI | AS28: SI | AU28: SI | AW28: SI | AY28: SI | BA28: SI | BC28: SI | BE28: SI | BG28: SI | BI28: SI | BK28: SI | BM28: SI | BO28: SI | BQ28: SI | BS28: SI | BU28: SI | BW28: SI | BY28: SI | CA28: SI | CC28: SI | CE28: SI | CG28: SI | CI28: SI | CK28: SI | CM28: SI | CO28: SI | CQ28: SI | CS28: SI | CU28: SI | CW28: SI | CY28: SI | DA28: SI | DC28: SI | DE28: SI | DG28: SI | DI28: SI | DK28: SI | DM28: SI | DO28: SI | DQ28: SI | DS28: SI
A29: IV. DETERMINACIÓN DE METAS | E29: IV. DETERMINACIÓN DE METAS | I29: IV. DETERMINACIÓN DE METAS | M29: IV. DETERMINACIÓN DE METAS | Q29: IV. DETERMINACIÓN DE METAS | U29: IV. DETERMINACIÓN DE METAS | Y29: IV. DETERMINACIÓN DE METAS | AC29: IV. DETERMINACIÓN DE METAS | AG29: IV. DETERMINACIÓN DE METAS | AK29: IV. DETERMINACIÓN DE METAS | AO29: IV. DETERMINACIÓN DE METAS | AS29: IV. DETERMINACIÓN DE METAS | AW29: IV. DETERMINACIÓN DE METAS | BA29: IV. DETERMINACIÓN DE METAS | BE29: IV. DETERMINACIÓN DE METAS | BI29: IV. DETERMINACIÓN DE METAS | BM29: IV. DETERMINACIÓN DE METAS | BQ29: IV. DETERMINACIÓN DE METAS | BU29: IV. DETERMINACIÓN DE METAS | BY29: IV. DETERMINACIÓN DE METAS | CC29: IV. DETERMINACIÓN DE METAS | CG29: IV. DETERMINACIÓN DE METAS | CK29: IV. DETERMINACIÓN DE METAS | CO29: IV. DETERMINACIÓN DE METAS | CS29: IV. DETERMINACIÓN DE METAS | CW29: IV. DETERMINACIÓN DE METAS | DA29: IV. DETERMINACIÓN DE METAS | DE29: IV. DETERMINACIÓN DE METAS | DI29: IV. DETERMINACIÓN DE METAS | DM29: IV. DETERMINACIÓN DE METAS | DQ29: IV. DETERMINACIÓN DE METAS
A30: LÍNEA BASE | C30: SENTIDO DEL INDICADOR | E30: LÍNEA BASE | G30: SENTIDO DEL INDICADOR | I30: LÍNEA BASE | K30: SENTIDO DEL INDICADOR | M30: LÍNEA BASE | O30: SENTIDO DEL INDICADOR | Q30: LÍNEA BASE | S30: SENTIDO DEL INDICADOR | U30: LÍNEA BASE | W30: SENTIDO DEL INDICADOR | Y30: LÍNEA BASE | AA30: SENTIDO DEL INDICADOR | AC30: LÍNEA BASE | AE30: SENTIDO DEL INDICADOR | AG30: LÍNEA BASE | AI30: SENTIDO DEL INDICADOR | AK30: LÍNEA BASE | AM30: SENTIDO DEL INDICADOR | AO30: LÍNEA BASE | AQ30: SENTIDO DEL INDICADOR | AS30: LÍNEA BASE | AU30: SENTIDO DEL INDICADOR | AW30: LÍNEA BASE | AY30: SENTIDO DEL INDICADOR | BA30: LÍNEA BASE | BC30: SENTIDO DEL INDICADOR | BE30: LÍNEA BASE | BG30: SENTIDO DEL INDICADOR | BI30: LÍNEA BASE | BK30: SENTIDO DEL INDICADOR | BM30: LÍNEA BASE | BO30: SENTIDO DEL INDICADOR | BQ30: LÍNEA BASE | BS30: SENTIDO DEL INDICADOR | BU30: LÍNEA BASE | BW30: SENTIDO DEL INDICADOR | BY30: LÍNEA BASE | CA30: SENTIDO DEL INDICADOR | CC30: LÍNEA BASE | CE30: SENTIDO DEL INDICADOR | CG30: LÍNEA BASE | CI30: SENTIDO DEL INDICADOR | CK30: LÍNEA BASE | CM30: SENTIDO DEL INDICADOR | CO30: LÍNEA BASE | CQ30: SENTIDO DEL INDICADOR | CS30: LÍNEA BASE | CU30: SENTIDO DEL INDICADOR | CW30: LÍNEA BASE | CY30: SENTIDO DEL INDICADOR | DA30: LÍNEA BASE | DC30: SENTIDO DEL INDICADOR | DE30: LÍNEA BASE | DG30: SENTIDO DEL INDICADOR | DI30: LÍNEA BASE | DK30: SENTIDO DEL INDICADOR | DM30: LÍNEA BASE | DO30: SENTIDO DEL INDICADOR | DQ30: LÍNEA BASE | DS30: SENTIDO DEL INDICADOR
A31: ='DES01 2025'!P141 -> 0.058 | C31: ='DES01 2025'!S141 -> Descendente | E31: ='DES01 2025'!P142 -> 0.821 | G31: ='DES01 2025'!S142 -> Descendente | I31: ='DES01 2025'!P143 -> 94% 14 | K31: ='DES01 2025'!S143 -> Ascendente | M31: ='DES01 2025'!P144 -> 100% 3337 | O31: ='DES01 2025'!S144 -> Ascendente | Q31: ='DES01 2025'!P145 -> 100% 1010 | S31: ='DES01 2025'!S145 -> Ascendente | U31: ='DES01 2025'!P146 -> 100% 828 | W31: ='DES01 2025'!S146 -> Ascendente | Y31: ='DES01 2025'!P147 -> 100% 665 | AA31: ='DES01 2025'!S147 -> Ascendente | AC31: ='DES01 2025'!P148 -> 100% 166 | AE31: ='DES01 2025'!S148 -> Ascendente | AG31: ='DES01 2025'!P149 -> 39% 75 | AI31: ='DES01 2025'!S149 -> Ascendente | AK31: ='DES01 2025'!P150 -> 0 | AM31: ='DES01 2025'!S150 -> Ascendente | AO31: ='DES01 2025'!P151 -> 100% 832 | AQ31: ='DES01 2025'!S151 -> Ascendente | AS31: ='DES01 2025'!P152 -> No disponible | AU31: ='DES01 2025'!S152 -> Ascendente | AW31: ='DES01 2025'!P153 -> 100 371% | AY31: ='DES01 2025'!S153 -> Ascendente | BA31: ='DES01 2025'!P154 -> 0 | BC31: ='DES01 2025'!S154 -> Ascendente | BE31: ='DES01 2025'!P155 -> 100% 393 | BG31: ='DES01 2025'!S155 -> Ascendente | BI31: ='DES01 2025'!P156 -> 100% 6 | BK31: ='DES01 2025'!S156 -> Ascendente | BM31: ='DES01 2025'!P157 -> 1 | BO31: ='DES01 2025'!S157 -> Ascendente | BQ31: ='DES01 2025'!P158 -> 1 | BS31: ='DES01 2025'!S158 -> Ascendente | BU31: ='DES01 2025'!P159 -> 100 13% | BW31: ='DES01 2025'!S159 -> Ascendente | BY31: ='DES01 2025'!P160 -> 100% 8 | CA31: ='DES01 2025'!S160 -> Ascendente | CC31: ='DES01 2025'!P161 -> 60% 3 | CE31: ='DES01 2025'!S161 -> Ascendente | CG31: ='DES01 2025'!P162 -> 0.65217391 | CI31: ='DES01 2025'!S162 -> Ascendente | CK31: ='DES01 2025'!P163 -> 0.66 | CM31: ='DES01 2025'!S163 -> Ascendente | CO31: ='DES01 2025'!P164 -> 0 | CQ31: ='DES01 2025'!S164 -> Ascendente | CS31: ='DES01 2025'!$P165 -> 100% 6 | CU31: ='DES01 2025'!$S165 -> Ascendente | CW31: ='DES01 2025'!$P166 -> 0.28 | CY31: ='DES01 2025'!$S166 -> Ascendente | DA31: ='DES01 2025'!$P167 -> 0.42 | DC31: ='DES01 2025'!$S167 -> Ascendente | DE31: ='DES01 2025'!$P168 -> 100% 9 | DG31: ='DES01 2025'!$S168 -> Ascendente | DI31: ='DES01 2025'!$P169 -> 0.25 | DK31: ='DES01 2025'!$S169 -> Ascendente | DM31: ='DES01 2025'!$P170 -> 0.75 | DO31: ='DES01 2025'!$S170 -> Ascendente | DQ31: ='DES01 2025'!$P171 -> 0.28 | DS31: ='DES01 2025'!$S171 -> Ascendente
A32: META PROGRAMADA | C32: AVANCE DE METAS | E32: META PROGRAMADA | G32: AVANCE DE METAS | I32: META PROGRAMADA | K32: AVANCE DE METAS | M32: META PROGRAMADA | O32: AVANCE DE METAS | Q32: META PROGRAMADA | S32: AVANCE DE METAS | U32: META PROGRAMADA | W32: AVANCE DE METAS | Y32: META PROGRAMADA | AA32: AVANCE DE METAS | AC32: META PROGRAMADA | AE32: AVANCE DE METAS | AG32: META PROGRAMADA | AI32: AVANCE DE METAS | AK32: META PROGRAMADA | AM32: AVANCE DE METAS | AO32: META PROGRAMADA | AQ32: AVANCE DE METAS | AS32: META PROGRAMADA | AU32: AVANCE DE METAS | AW32: META PROGRAMADA | AY32: AVANCE DE METAS | BA32: META PROGRAMADA | BC32: AVANCE DE METAS | BE32: META PROGRAMADA | BG32: AVANCE DE METAS | BI32: META PROGRAMADA | BK32: AVANCE DE METAS | BM32: META PROGRAMADA | BO32: AVANCE DE METAS | BQ32: META PROGRAMADA | BS32: AVANCE DE METAS | BU32: META PROGRAMADA | BW32: AVANCE DE METAS | BY32: META PROGRAMADA | CA32: AVANCE DE METAS | CC32: META PROGRAMADA | CE32: AVANCE DE METAS | CG32: META PROGRAMADA | CI32: AVANCE DE METAS | CK32: META PROGRAMADA | CM32: AVANCE DE METAS | CO32: META PROGRAMADA | CQ32: AVANCE DE METAS | CS32: META PROGRAMADA | CU32: AVANCE DE METAS | CW32: META PROGRAMADA | CY32: AVANCE DE METAS | DA32: META PROGRAMADA | DC32: AVANCE DE METAS | DE32: META PROGRAMADA | DG32: AVANCE DE METAS | DI32: META PROGRAMADA | DK32: AVANCE DE METAS | DM32: META PROGRAMADA | DO32: AVANCE DE METAS | DQ32: META PROGRAMADA | DS32: AVANCE DE METAS
A33: ='DES01 2025'!W141 -> 0.055 | C33: ='DES01 2025'!AB141 -> 1 | E33: ='DES01 2025'!W142 -> 0.76 | G33: ='DES01 2025'!AB142 -> 1 | I33: ='DES01 2025'!W143 -> 0.9 | K33: ='DES01 2025'!AB143 -> 1 | M33: ='DES01 2025'!W144 -> 0.9 | O33: ='DES01 2025'!AB144 -> 3.42 | Q33: ='DES01 2025'!W145 -> 0.9 | S33: ='DES01 2025'!AB145 -> 1 | U33: ='DES01 2025'!W146 -> 0.9 | W33: ='DES01 2025'!AB146 -> 0.75 | Y33: ='DES01 2025'!W147 -> 0.9 | AA33: ='DES01 2025'!AB147 -> 0 | AC33: ='DES01 2025'!W148 -> 0.9 | AE33: ='DES01 2025'!AB148 -> 1 | AG33: ='DES01 2025'!W149 -> 0.9 | AI33: ='DES01 2025'!AB149 -> 0.83 | AK33: ='DES01 2025'!W150 -> 0.9 | AM33: ='DES01 2025'!AB150 -> 1 | AO33: ='DES01 2025'!W151 -> 0.9 | AQ33: ='DES01 2025'!AB151 -> 0 | AS33: ='DES01 2025'!W152 -> 0.8 | AU33: ='DES01 2025'!AB152 -> 0.3 | AW33: ='DES01 2025'!W153 -> 0.9 | AY33: ='DES01 2025'!AB153 -> 1 | BA33: ='DES01 2025'!W154 -> 0.8 | BC33: ='DES01 2025'!AB154 -> 0 | BE33: ='DES01 2025'!W155 -> 0.9 | BG33: ='DES01 2025'!AB155 -> 1.47 | BI33: ='DES01 2025'!W156 -> 0.9 | BK33: ='DES01 2025'!AB156 -> 0 | BM33: ='DES01 2025'!W157 -> 0.9 | BO33: ='DES01 2025'!AB157 -> 1.41 | BQ33: ='DES01 2025'!W158 -> 0.9 | BS33: ='DES01 2025'!AB158 -> 2.56 | BU33: ='DES01 2025'!W159 -> 0.9 | BW33: ='DES01 2025'!AB159 -> 0 | BY33: ='DES01 2025'!W160 -> 0.9 | CA33: ='DES01 2025'!AB160 -> 1 | CC33: ='DES01 2025'!W161 -> 0.85 | CE33: ='DES01 2025'!AB161 -> 0 | CG33: ='DES01 2025'!W162 -> 0.95 | CI33: ='DES01 2025'!AB162 -> 1 | CK33: ='DES01 2025'!W163 -> 0.9 | CM33: ='DES01 2025'!AB163 -> 1 | CO33: ='DES01 2025'!W164 -> 0.8 | CQ33: ='DES01 2025'!AB164 -> 0.67 | CS33: ='DES01 2025'!$W165 -> 0.9 | CU33: ='DES01 2025'!$AB165 -> 3 | CW33: ='DES01 2025'!$W166 -> 0.85 | CY33: ='DES01 2025'!$AB166 -> 2.83 | DA33: ='DES01 2025'!$W167 -> 0.85 | DC33: ='DES01 2025'!$AB167 -> 1.42 | DE33: ='DES01 2025'!$W168 -> 0.9 | DG33: ='DES01 2025'!$AB168 -> 0.92 | DI33: ='DES01 2025'!$W169 -> 0.85 | DK33: ='DES01 2025'!$AB169 -> 0.39 | DM33: ='DES01 2025'!$W170 -> 0.9 | DO33: ='DES01 2025'!$AB170 -> 1.67 | DQ33: ='DES01 2025'!$W171 -> 0.85 | DS33: ='DES01 2025'!$AB171 -> 0
